BEGIN:VCALENDAR
VERSION:2.0
PRODID:-//Kath. Gemeinden St. Vitus und Hl. Dreifaltigkeit - ECPv6.15.11//NONSGML v1.0//EN
CALSCALE:GREGORIAN
METHOD:PUBLISH
X-WR-CALNAME:Kath. Gemeinden St. Vitus und Hl. Dreifaltigkeit
X-ORIGINAL-URL:https://veitshoechheim-kirchen.quadrate.media
X-WR-CALDESC:Veranstaltungen für Kath. Gemeinden St. Vitus und Hl. Dreifaltigkeit
REFRESH-INTERVAL;VALUE=DURATION:PT1H
X-Robots-Tag:noindex
X-PUBLISHED-TTL:PT1H
BEGIN:VTIMEZONE
TZID:Europe/Berlin
BEGIN:DAYLIGHT
TZOFFSETFROM:+0100
TZOFFSETTO:+0200
TZNAME:CEST
DTSTART:20230326T010000
END:DAYLIGHT
BEGIN:STANDARD
TZOFFSETFROM:+0200
TZOFFSETTO:+0100
TZNAME:CET
DTSTART:20231029T010000
END:STANDARD
BEGIN:DAYLIGHT
TZOFFSETFROM:+0100
TZOFFSETTO:+0200
TZNAME:CEST
DTSTART:20240331T010000
END:DAYLIGHT
BEGIN:STANDARD
TZOFFSETFROM:+0200
TZOFFSETTO:+0100
TZNAME:CET
DTSTART:20241027T010000
END:STANDARD
BEGIN:DAYLIGHT
TZOFFSETFROM:+0100
TZOFFSETTO:+0200
TZNAME:CEST
DTSTART:20250330T010000
END:DAYLIGHT
BEGIN:STANDARD
TZOFFSETFROM:+0200
TZOFFSETTO:+0100
TZNAME:CET
DTSTART:20251026T010000
END:STANDARD
END:VTIMEZONE
BEGIN:VEVENT
DTSTART;TZID=Europe/Berlin:20240729T140000
DTEND;TZID=Europe/Berlin:20240729T140000
DTSTAMP:20260420T234345
CREATED:20240714T083245Z
LAST-MODIFIED:20240714T083245Z
UID:10000003-1722261600-1722261600@veitshoechheim-kirchen.quadrate.media
SUMMARY:Plauderstündchen
DESCRIPTION:Herzlich einladen möchten wir alle Senioren und Seniorinnen zu einem gemütlichen „Plauderstündchen“ am Nachmittag bei Kaffee und Kuchen. \nUnsere Treffen finden immer am letzten Montag im Monat statt. Gemeinsam mit Ihnen möchten wir mit Liedern\, Gedichten und Erzählungen über die Besonderheiten der jeweiligen Jahreszeit ins Gespräch kommen.
URL:https://veitshoechheim-kirchen.quadrate.media/event/plauderstuendchen/
LOCATION:Kleines Pfarrheim Kuratie
END:VEVENT
END:VCALENDAR