BEGIN:VCALENDAR
VERSION:2.0
PRODID:-//Kath. Gemeinden St. Vitus und Hl. Dreifaltigkeit - ECPv6.15.11//NONSGML v1.0//EN
CALSCALE:GREGORIAN
METHOD:PUBLISH
X-ORIGINAL-URL:https://veitshoechheim-kirchen.quadrate.media
X-WR-CALDESC:Veranstaltungen für Kath. Gemeinden St. Vitus und Hl. Dreifaltigkeit
REFRESH-INTERVAL;VALUE=DURATION:PT1H
X-Robots-Tag:noindex
X-PUBLISHED-TTL:PT1H
BEGIN:VTIMEZONE
TZID:Europe/Berlin
BEGIN:DAYLIGHT
TZOFFSETFROM:+0100
TZOFFSETTO:+0200
TZNAME:CEST
DTSTART:20230326T010000
END:DAYLIGHT
BEGIN:STANDARD
TZOFFSETFROM:+0200
TZOFFSETTO:+0100
TZNAME:CET
DTSTART:20231029T010000
END:STANDARD
BEGIN:DAYLIGHT
TZOFFSETFROM:+0100
TZOFFSETTO:+0200
TZNAME:CEST
DTSTART:20240331T010000
END:DAYLIGHT
BEGIN:STANDARD
TZOFFSETFROM:+0200
TZOFFSETTO:+0100
TZNAME:CET
DTSTART:20241027T010000
END:STANDARD
BEGIN:DAYLIGHT
TZOFFSETFROM:+0100
TZOFFSETTO:+0200
TZNAME:CEST
DTSTART:20250330T010000
END:DAYLIGHT
BEGIN:STANDARD
TZOFFSETFROM:+0200
TZOFFSETTO:+0100
TZNAME:CET
DTSTART:20251026T010000
END:STANDARD
END:VTIMEZONE
BEGIN:VEVENT
DTSTART;VALUE=DATE:20240804
DTEND;VALUE=DATE:20240805
DTSTAMP:20260420T192508
CREATED:20240714T083414Z
LAST-MODIFIED:20240714T083414Z
UID:10000004-1722729600-1722815999@veitshoechheim-kirchen.quadrate.media
SUMMARY:Fahrt zu den Fränkischen Passionsspielen Sömmersdorf
DESCRIPTION:Alle fünf Jahre werden in Sömmersdorf die weit über die Grenzen Frankens bekannten Passionsspiele aufgeführt\, um die Geschichte jenes Mannes lebendig zu halten\, der mit seinen Worten und Taten das Gesicht dieser Welt veränderte: das Leben\, Lieben\, Leiden und Sterben des Jesus von Nazareth. \nAm Sonntag\, 4. August\, bieten wir eine Busfahrt zu den Passionsspielen an. Folgendes Programm ist vorgesehen: Abfahrt um 11 Uhr an den Mainfrankensälen Veitshöchheim\, 12 Uhr Führung hinter den Kulissen\, 13 Uhr Mittagessen auf dem Gelände der Passionsspiele\, 14.30 Uhr Beginn der Passionsspiele. \nWir haben 80 Sitzplatzkarten in der Kategorie 1 (beste Kategorie). Anschließend Rückfahrt nach Veitshöchheim. Die Kosten liegen bei 80\,00 EUR (Busfahrt\, Eintrittskarte und Führung; ohne Verpflegung). Die geistliche Reiseleitung liegt bei Pfarrer Christian Nowak. \nAnmeldung im Pfarrbüro Veitshöchheim ab sofort
URL:https://veitshoechheim-kirchen.quadrate.media/event/fahrt-zu-den-fraenkischen-passionsspielen-soemmersdorf/
LOCATION:Überörtlich
END:VEVENT
END:VCALENDAR